BEGIN:VCALENDAR
VERSION:2.0
PRODID:-//www.hopeworxinc.org//NONSGML kigkonsult.se iCalcreator 2.30.10//
CALSCALE:GREGORIAN
METHOD:PUBLISH
UID:1faf6376-0fda-4ef0-b255-f9d3e9aef554
X-WR-CALDESC:
X-WR-RELCALID:644267e4a9d3919e48f01501a195fb1b
X-WR-TIMEZONE:America/New_York
BEGIN:VTIMEZONE
TZID:America/New_York
BEGIN:STANDARD
TZNAME:EST
DTSTART:20191103T020000
TZOFFSETFROM:-0400
TZOFFSETTO:-0500
RDATE:20201101T020000
END:STANDARD
BEGIN:DAYLIGHT
TZNAME:EDT
DTSTART:20190310T020000
TZOFFSETFROM:-0500
TZOFFSETTO:-0400
RDATE:20200308T020000
RDATE:20210314T020000
END:DAYLIGHT
END:VTIMEZONE
BEGIN:VEVENT
UID:4a77da84-712a-4e2d-8d84-0d7a162d01bf
DTSTAMP:20260420T005908Z
DESCRIPTION:
DTSTART;TZID=America/New_York:20200220T120000
DTEND;TZID=America/New_York:20200220T150000
LOCATION:
SUMMARY:Montgomery County CSP Meeting
END:VEVENT
END:VCALENDAR
