BEGIN:VCALENDAR
VERSION:2.0
PRODID:-//www.hopeworxinc.org//NONSGML kigkonsult.se iCalcreator 2.30.10//
CALSCALE:GREGORIAN
METHOD:PUBLISH
UID:9543a936-85f2-4d81-9405-1e9f900250e9
X-WR-CALDESC:
X-WR-RELCALID:dee3a05dce135a7816a29dce33b5af7a
X-WR-TIMEZONE:America/New_York
BEGIN:VTIMEZONE
TZID:America/New_York
BEGIN:STANDARD
TZNAME:EST
DTSTART:20191103T020000
TZOFFSETFROM:-0400
TZOFFSETTO:-0500
RDATE:20201101T020000
END:STANDARD
BEGIN:DAYLIGHT
TZNAME:EDT
DTSTART:20190310T020000
TZOFFSETFROM:-0500
TZOFFSETTO:-0400
RDATE:20200308T020000
RDATE:20210314T020000
END:DAYLIGHT
END:VTIMEZONE
BEGIN:VEVENT
UID:e5b517ba-df2f-4e78-9e8e-d7e72700cd7d
DTSTAMP:20260420T005718Z
DESCRIPTION:
DTSTART;TZID=America/New_York:20200222T130000
DTEND;TZID=America/New_York:20200222T160000
LOCATION:
SUMMARY:Cooking on a Budget with Penny
END:VEVENT
END:VCALENDAR
