BEGIN:VCALENDAR
VERSION:2.0
PRODID:-//www.hopeworxinc.org//NONSGML kigkonsult.se iCalcreator 2.30.10//
CALSCALE:GREGORIAN
METHOD:PUBLISH
UID:f2e40fd0-2c39-4cdf-b893-fce276fa6160
X-WR-CALDESC:
X-WR-RELCALID:54a64c53a838af869db926932ac8749e
X-WR-TIMEZONE:America/New_York
BEGIN:VTIMEZONE
TZID:America/New_York
BEGIN:STANDARD
TZNAME:EST
DTSTART:20191103T020000
TZOFFSETFROM:-0400
TZOFFSETTO:-0500
RDATE:20201101T020000
END:STANDARD
BEGIN:DAYLIGHT
TZNAME:EDT
DTSTART:20190310T020000
TZOFFSETFROM:-0500
TZOFFSETTO:-0400
RDATE:20200308T020000
RDATE:20210314T020000
END:DAYLIGHT
END:VTIMEZONE
BEGIN:VEVENT
UID:f73dd864-2020-481d-bb46-81a9a3185260
DTSTAMP:20260420T005611Z
DESCRIPTION:
DTSTART;TZID=America/New_York:20200225T140000
DTEND;TZID=America/New_York:20200225T150000
LOCATION:
SUMMARY:Ask the Basket
END:VEVENT
END:VCALENDAR
