BEGIN:VCALENDAR
VERSION:2.0
PRODID:-//www.hopeworxinc.org//NONSGML kigkonsult.se iCalcreator 2.30.10//
CALSCALE:GREGORIAN
METHOD:PUBLISH
UID:311d2e68-bf0f-4e44-b89f-5ccc681b3465
X-WR-CALDESC:
X-WR-RELCALID:2c78c9ab80fc7ee81eeeb4efdad56bec
X-WR-TIMEZONE:America/New_York
BEGIN:VTIMEZONE
TZID:America/New_York
BEGIN:STANDARD
TZNAME:EST
DTSTART:20191103T020000
TZOFFSETFROM:-0400
TZOFFSETTO:-0500
RDATE:20201101T020000
END:STANDARD
BEGIN:DAYLIGHT
TZNAME:EDT
DTSTART:20190310T020000
TZOFFSETFROM:-0500
TZOFFSETTO:-0400
RDATE:20200308T020000
RDATE:20210314T020000
END:DAYLIGHT
END:VTIMEZONE
BEGIN:VEVENT
UID:7f006753-2fbc-45fb-9a0e-a7dd8503abf9
DTSTAMP:20260420T005734Z
DESCRIPTION:
DTSTART;TZID=America/New_York:20200228T133000
DTEND;TZID=America/New_York:20200228T150000
LOCATION:
SUMMARY:Access Services Spirituality Group | HopeWorx 1:30 – 3:00pm with Da
 ve Eckert Access Services
END:VEVENT
END:VCALENDAR
