BEGIN:VCALENDAR
VERSION:2.0
PRODID:-//www.hopeworxinc.org//NONSGML kigkonsult.se iCalcreator 2.30.10//
CALSCALE:GREGORIAN
METHOD:PUBLISH
UID:58486c4d-1be2-4e29-879f-ba3b5313df2d
X-WR-CALDESC:
X-WR-RELCALID:8eb0b67ad39f514ee2e4dceb272985fa
X-WR-TIMEZONE:America/New_York
BEGIN:VTIMEZONE
TZID:America/New_York
BEGIN:STANDARD
TZNAME:EST
DTSTART:20191103T020000
TZOFFSETFROM:-0400
TZOFFSETTO:-0500
RDATE:20201101T020000
END:STANDARD
BEGIN:DAYLIGHT
TZNAME:EDT
DTSTART:20190310T020000
TZOFFSETFROM:-0500
TZOFFSETTO:-0400
RDATE:20200308T020000
RDATE:20210314T020000
END:DAYLIGHT
END:VTIMEZONE
BEGIN:VEVENT
UID:c6847e38-4402-492a-9ea4-6ee85d9ad494
DTSTAMP:20260420T005734Z
DESCRIPTION:
DTSTART;TZID=America/New_York:20200229T100000
DTEND;TZID=America/New_York:20200229T120000
LOCATION:
SUMMARY:Taking Control of Your Life Budget Class - Please register with Ame
 ika
END:VEVENT
END:VCALENDAR
