BEGIN:VCALENDAR
VERSION:2.0
PRODID:-//www.hopeworxinc.org//NONSGML kigkonsult.se iCalcreator 2.30.10//
CALSCALE:GREGORIAN
METHOD:PUBLISH
UID:5289e027-0323-423e-b20d-1112e626f58c
X-WR-CALDESC:
X-WR-RELCALID:fbd081876116703c2e302c45cea488f7
X-WR-TIMEZONE:America/New_York
BEGIN:VTIMEZONE
TZID:America/New_York
BEGIN:STANDARD
TZNAME:EST
DTSTART:20191103T020000
TZOFFSETFROM:-0400
TZOFFSETTO:-0500
RDATE:20201101T020000
END:STANDARD
BEGIN:DAYLIGHT
TZNAME:EDT
DTSTART:20200308T020000
TZOFFSETFROM:-0500
TZOFFSETTO:-0400
RDATE:20210314T020000
END:DAYLIGHT
END:VTIMEZONE
BEGIN:VEVENT
UID:aa998e25-9992-40a2-b4fc-275fc430c7ce
DTSTAMP:20260420T023740Z
DESCRIPTION:
DTSTART;TZID=America/New_York:20200313T120000
DTEND;TZID=America/New_York:20200313T150000
LOCATION:
SUMMARY:Community Art with Maria Maneos (BWTL)
END:VEVENT
END:VCALENDAR
