BEGIN:VCALENDAR
VERSION:2.0
PRODID:-//www.hopeworxinc.org//NONSGML kigkonsult.se iCalcreator 2.30.10//
CALSCALE:GREGORIAN
METHOD:PUBLISH
UID:b8fb8a4b-5d64-47c4-a212-3379a4aceb0f
X-WR-CALDESC:
X-WR-RELCALID:c158e509eccec82869b7a0e7939dac82
X-WR-TIMEZONE:America/New_York
BEGIN:VTIMEZONE
TZID:America/New_York
BEGIN:STANDARD
TZNAME:EST
DTSTART:20191103T020000
TZOFFSETFROM:-0400
TZOFFSETTO:-0500
RDATE:20201101T020000
END:STANDARD
BEGIN:DAYLIGHT
TZNAME:EDT
DTSTART:20200308T020000
TZOFFSETFROM:-0500
TZOFFSETTO:-0400
RDATE:20210314T020000
END:DAYLIGHT
END:VTIMEZONE
BEGIN:VEVENT
UID:3f358ccd-a0c4-4cd7-a699-e42734495214
DTSTAMP:20260420T023853Z
DESCRIPTION:
DTSTART;TZID=America/New_York:20200317T123000
DTEND;TZID=America/New_York:20200317T143000
LOCATION:
SUMMARY:Ask the Basket with Sandy Watson | HopeWorx | 12:30pm – 2:30pm
END:VEVENT
END:VCALENDAR
