BEGIN:VCALENDAR
VERSION:2.0
PRODID:-//www.hopeworxinc.org//NONSGML kigkonsult.se iCalcreator 2.30.10//
CALSCALE:GREGORIAN
METHOD:PUBLISH
UID:6fe4275e-ab9d-4b99-bf37-50abbcb023ba
X-WR-CALDESC:
X-WR-RELCALID:343b31d70fdf0bec4566f3e4f5d756ae
X-WR-TIMEZONE:America/New_York
BEGIN:VTIMEZONE
TZID:America/New_York
BEGIN:STANDARD
TZNAME:EST
DTSTART:20191103T020000
TZOFFSETFROM:-0400
TZOFFSETTO:-0500
RDATE:20201101T020000
END:STANDARD
BEGIN:DAYLIGHT
TZNAME:EDT
DTSTART:20200308T020000
TZOFFSETFROM:-0500
TZOFFSETTO:-0400
RDATE:20210314T020000
END:DAYLIGHT
END:VTIMEZONE
BEGIN:VEVENT
UID:45040f11-ef45-4968-b593-02dccb53b541
DTSTAMP:20260420T023642Z
DESCRIPTION:
DTSTART;TZID=America/New_York:20200319T103000
DTEND;TZID=America/New_York:20200319T120000
LOCATION:
SUMMARY:Circle of Hope with CIC
END:VEVENT
END:VCALENDAR
