BEGIN:VCALENDAR
VERSION:2.0
PRODID:-//www.hopeworxinc.org//NONSGML kigkonsult.se iCalcreator 2.30.10//
CALSCALE:GREGORIAN
METHOD:PUBLISH
UID:ebc75720-39ef-4732-90ea-974169877f99
X-WR-CALDESC:
X-WR-RELCALID:dfc11662cd6cf53c4a8f01de61cd67d7
X-WR-TIMEZONE:America/New_York
BEGIN:VTIMEZONE
TZID:America/New_York
BEGIN:STANDARD
TZNAME:EST
DTSTART:20191103T020000
TZOFFSETFROM:-0400
TZOFFSETTO:-0500
RDATE:20201101T020000
END:STANDARD
BEGIN:DAYLIGHT
TZNAME:EDT
DTSTART:20200308T020000
TZOFFSETFROM:-0500
TZOFFSETTO:-0400
RDATE:20210314T020000
END:DAYLIGHT
END:VTIMEZONE
BEGIN:VEVENT
UID:f8e7cd4c-2f70-44f8-ad31-3019cb7e86b0
DTSTAMP:20260420T023529Z
DESCRIPTION:
DTSTART;TZID=America/New_York:20200319T120000
DTEND;TZID=America/New_York:20200319T150000
LOCATION:
SUMMARY:Montgomery County CSP Meeting
END:VEVENT
END:VCALENDAR
