BEGIN:VCALENDAR
VERSION:2.0
PRODID:-//www.hopeworxinc.org//NONSGML kigkonsult.se iCalcreator 2.30.10//
CALSCALE:GREGORIAN
METHOD:PUBLISH
UID:49303191-ca3d-4782-be4f-213eb29857be
X-WR-CALDESC:
X-WR-RELCALID:cef4a6b1bb7dd7a629dda81456d99462
X-WR-TIMEZONE:America/New_York
BEGIN:VTIMEZONE
TZID:America/New_York
BEGIN:STANDARD
TZNAME:EST
DTSTART:20191103T020000
TZOFFSETFROM:-0400
TZOFFSETTO:-0500
RDATE:20201101T020000
END:STANDARD
BEGIN:DAYLIGHT
TZNAME:EDT
DTSTART:20200308T020000
TZOFFSETFROM:-0500
TZOFFSETTO:-0400
RDATE:20210314T020000
END:DAYLIGHT
END:VTIMEZONE
BEGIN:VEVENT
UID:e5429fe0-64ca-46c5-900e-fda755638b97
DTSTAMP:20260420T023546Z
DESCRIPTION:
DTSTART;TZID=America/New_York:20200326T103000
DTEND;TZID=America/New_York:20200326T120000
LOCATION:
SUMMARY:Circle of Hope with CIC
END:VEVENT
END:VCALENDAR
