BEGIN:VCALENDAR
VERSION:2.0
PRODID:-//www.hopeworxinc.org//NONSGML kigkonsult.se iCalcreator 2.30.10//
CALSCALE:GREGORIAN
METHOD:PUBLISH
UID:fe199b5d-88d5-4bc6-b477-51893e891f12
X-WR-CALDESC:
X-WR-RELCALID:177a4bfc5ba7da37308667e72b354cb0
X-WR-TIMEZONE:America/New_York
BEGIN:VTIMEZONE
TZID:America/New_York
BEGIN:STANDARD
TZNAME:EST
DTSTART:20191103T020000
TZOFFSETFROM:-0400
TZOFFSETTO:-0500
RDATE:20201101T020000
END:STANDARD
BEGIN:DAYLIGHT
TZNAME:EDT
DTSTART:20200308T020000
TZOFFSETFROM:-0500
TZOFFSETTO:-0400
RDATE:20210314T020000
END:DAYLIGHT
END:VTIMEZONE
BEGIN:VEVENT
UID:6f3b822e-b91f-4584-8fd8-a505422d78f7
DTSTAMP:20260420T024049Z
DESCRIPTION:
DTSTART;TZID=America/New_York:20200331T130000
DTEND;TZID=America/New_York:20200331T140000
LOCATION:
SUMMARY:Mindful Yoga | HopeWorx | 1:00pm – 2:00pm with Maria Evans
END:VEVENT
END:VCALENDAR
