BEGIN:VCALENDAR
VERSION:2.0
PRODID:-//www.hopeworxinc.org//NONSGML kigkonsult.se iCalcreator 2.30.10//
CALSCALE:GREGORIAN
METHOD:PUBLISH
UID:c9ccd0ab-10a7-4f34-85b5-88b88ec9a367
X-WR-CALDESC:
X-WR-RELCALID:b4c884d7202d36da3f9652945641bc4f
X-WR-TIMEZONE:America/New_York
BEGIN:VTIMEZONE
TZID:America/New_York
BEGIN:STANDARD
TZNAME:EST
DTSTART:20191103T020000
TZOFFSETFROM:-0400
TZOFFSETTO:-0500
RDATE:20201101T020000
END:STANDARD
BEGIN:DAYLIGHT
TZNAME:EDT
DTSTART:20200308T020000
TZOFFSETFROM:-0500
TZOFFSETTO:-0400
RDATE:20210314T020000
END:DAYLIGHT
END:VTIMEZONE
BEGIN:VEVENT
UID:c98ebfa2-b3b1-4132-b731-64855bee068e
DTSTAMP:20260420T042836Z
DESCRIPTION:
DTSTART;TZID=America/New_York:20200407T120000
DTEND;TZID=America/New_York:20200407T130000
LOCATION:
SUMMARY:HopeMarket Community Meeting | HopeWorx |  12:00 – 1:00pm with comm
 unity members
END:VEVENT
END:VCALENDAR
