BEGIN:VCALENDAR
VERSION:2.0
PRODID:-//www.hopeworxinc.org//NONSGML kigkonsult.se iCalcreator 2.30.10//
CALSCALE:GREGORIAN
METHOD:PUBLISH
UID:602fd6ce-6ed3-45a3-9ffe-180391af5799
X-WR-CALDESC:
X-WR-RELCALID:9749b8239a30b678cf28b2868b8995fe
X-WR-TIMEZONE:America/New_York
BEGIN:VTIMEZONE
TZID:America/New_York
BEGIN:STANDARD
TZNAME:EST
DTSTART:20191103T020000
TZOFFSETFROM:-0400
TZOFFSETTO:-0500
RDATE:20201101T020000
END:STANDARD
BEGIN:DAYLIGHT
TZNAME:EDT
DTSTART:20200308T020000
TZOFFSETFROM:-0500
TZOFFSETTO:-0400
RDATE:20210314T020000
END:DAYLIGHT
END:VTIMEZONE
BEGIN:VEVENT
UID:478ccc2a-58e3-4b80-84b3-db7ac6cf918a
DTSTAMP:20260420T042404Z
DESCRIPTION:
DTSTART;TZID=America/New_York:20200413T150000
DTEND;TZID=America/New_York:20200413T163000
LOCATION:
SUMMARY:Montgomery County Hearing Voices Network (MCHVN) - 'Taking Back Our
  Power' | HopeWorx | 3:00pm – 4:30pm with CIC
END:VEVENT
END:VCALENDAR
