BEGIN:VCALENDAR
VERSION:2.0
PRODID:-//www.hopeworxinc.org//NONSGML kigkonsult.se iCalcreator 2.30.10//
CALSCALE:GREGORIAN
METHOD:PUBLISH
UID:6e4ca4aa-d94e-4ddd-9c6e-a1accaf4c901
X-WR-CALDESC:
X-WR-RELCALID:a42583353153dfe955397cff9b1aa968
X-WR-TIMEZONE:America/New_York
BEGIN:VTIMEZONE
TZID:America/New_York
BEGIN:STANDARD
TZNAME:EST
DTSTART:20191103T020000
TZOFFSETFROM:-0400
TZOFFSETTO:-0500
RDATE:20201101T020000
END:STANDARD
BEGIN:DAYLIGHT
TZNAME:EDT
DTSTART:20200308T020000
TZOFFSETFROM:-0500
TZOFFSETTO:-0400
RDATE:20210314T020000
END:DAYLIGHT
END:VTIMEZONE
BEGIN:VEVENT
UID:4be5c01b-1519-4f18-8b54-082f587250e4
DTSTAMP:20260420T042559Z
DESCRIPTION:
DTSTART;TZID=America/New_York:20200417T120000
DTEND;TZID=America/New_York:20200417T150000
LOCATION:
SUMMARY:Community Art with Maria Maneos (BWTL)
END:VEVENT
END:VCALENDAR
