BEGIN:VCALENDAR
VERSION:2.0
PRODID:-//www.hopeworxinc.org//NONSGML kigkonsult.se iCalcreator 2.30.10//
CALSCALE:GREGORIAN
METHOD:PUBLISH
UID:5f909458-2034-483c-a1f8-4d76c89cf990
X-WR-CALDESC:
X-WR-RELCALID:5e719f3708cf6c76e27b855f08932999
X-WR-TIMEZONE:America/New_York
BEGIN:VTIMEZONE
TZID:America/New_York
BEGIN:STANDARD
TZNAME:EST
DTSTART:20191103T020000
TZOFFSETFROM:-0400
TZOFFSETTO:-0500
RDATE:20201101T020000
END:STANDARD
BEGIN:DAYLIGHT
TZNAME:EDT
DTSTART:20200308T020000
TZOFFSETFROM:-0500
TZOFFSETTO:-0400
RDATE:20210314T020000
END:DAYLIGHT
END:VTIMEZONE
BEGIN:VEVENT
UID:3ead0f12-bd63-4e92-9b0e-1138ed5c8875
DTSTAMP:20260420T040847Z
DESCRIPTION:
DTSTART;TZID=America/New_York:20200421T123000
DTEND;TZID=America/New_York:20200421T143000
LOCATION:
SUMMARY:Ask the Basket with Sandy Watson | HopeWorx | 12:30pm – 2:30pm
END:VEVENT
END:VCALENDAR
