BEGIN:VCALENDAR
VERSION:2.0
PRODID:-//www.hopeworxinc.org//NONSGML kigkonsult.se iCalcreator 2.30.10//
CALSCALE:GREGORIAN
METHOD:PUBLISH
UID:aaedbcf3-cd2e-467f-97ec-891ebeb771f4
X-WR-CALDESC:
X-WR-RELCALID:e0fbee8155fd4580b5db5b19afe4fb44
X-WR-TIMEZONE:America/New_York
BEGIN:VTIMEZONE
TZID:America/New_York
BEGIN:STANDARD
TZNAME:EST
DTSTART:20191103T020000
TZOFFSETFROM:-0400
TZOFFSETTO:-0500
RDATE:20201101T020000
END:STANDARD
BEGIN:DAYLIGHT
TZNAME:EDT
DTSTART:20200308T020000
TZOFFSETFROM:-0500
TZOFFSETTO:-0400
RDATE:20210314T020000
END:DAYLIGHT
END:VTIMEZONE
BEGIN:VEVENT
UID:a31ffc5e-0168-466f-886a-ce50fde9079e
DTSTAMP:20260420T041040Z
DESCRIPTION:
DTSTART;TZID=America/New_York:20200424T120000
DTEND;TZID=America/New_York:20200424T150000
LOCATION:
SUMMARY:Community Art with Maria Maneos (BWTL)
END:VEVENT
END:VCALENDAR
