BEGIN:VCALENDAR
VERSION:2.0
PRODID:-//www.hopeworxinc.org//NONSGML kigkonsult.se iCalcreator 2.30.10//
CALSCALE:GREGORIAN
METHOD:PUBLISH
UID:0669a798-aef7-4f09-bf76-0abf30c40fba
X-WR-CALDESC:
X-WR-RELCALID:72efecd9a4f52780af0e50e43655e3f2
X-WR-TIMEZONE:America/New_York
BEGIN:VTIMEZONE
TZID:America/New_York
BEGIN:STANDARD
TZNAME:EST
DTSTART:20191103T020000
TZOFFSETFROM:-0400
TZOFFSETTO:-0500
RDATE:20201101T020000
END:STANDARD
BEGIN:DAYLIGHT
TZNAME:EDT
DTSTART:20200308T020000
TZOFFSETFROM:-0500
TZOFFSETTO:-0400
RDATE:20210314T020000
END:DAYLIGHT
END:VTIMEZONE
BEGIN:VEVENT
UID:b2688a82-434f-4e21-b864-eb88e951995b
DTSTAMP:20260420T042144Z
DESCRIPTION:
DTSTART;TZID=America/New_York:20200427T150000
DTEND;TZID=America/New_York:20200427T163000
LOCATION:
SUMMARY:Montgomery County Hearing Voices Network (MCHVN) - 'Taking Back Our
  Power' | HopeWorx | 3:00pm – 4:30pm with CIC
END:VEVENT
END:VCALENDAR
