BEGIN:VCALENDAR
VERSION:2.0
PRODID:-//www.hopeworxinc.org//NONSGML kigkonsult.se iCalcreator 2.30.10//
CALSCALE:GREGORIAN
METHOD:PUBLISH
UID:bb82d492-d90f-4154-8d61-924f4fdbd96f
X-WR-CALDESC:
X-WR-RELCALID:fc95314fb7a429cfe2c0e1756e109f15
X-WR-TIMEZONE:America/New_York
BEGIN:VTIMEZONE
TZID:America/New_York
BEGIN:STANDARD
TZNAME:EST
DTSTART:20191103T020000
TZOFFSETFROM:-0400
TZOFFSETTO:-0500
RDATE:20201101T020000
RDATE:20211107T020000
END:STANDARD
BEGIN:DAYLIGHT
TZNAME:EDT
DTSTART:20200308T020000
TZOFFSETFROM:-0500
TZOFFSETTO:-0400
RDATE:20210314T020000
END:DAYLIGHT
END:VTIMEZONE
BEGIN:VEVENT
UID:4533f364-00d9-4beb-bd27-e1865bfa46b0
DTSTAMP:20260420T054710Z
DESCRIPTION:
DTSTART;TZID=America/New_York:20200508T120000
DTEND;TZID=America/New_York:20200508T150000
LOCATION:
SUMMARY:Community Art with Maria Maneos (BWTL)
END:VEVENT
END:VCALENDAR
