BEGIN:VCALENDAR
VERSION:2.0
PRODID:-//www.hopeworxinc.org//NONSGML kigkonsult.se iCalcreator 2.30.10//
CALSCALE:GREGORIAN
METHOD:PUBLISH
UID:b5c7a5a9-cad7-4beb-9d18-b27c016779db
X-WR-CALDESC:
X-WR-RELCALID:df89b68cc64442dd0bd06be796053a2d
X-WR-TIMEZONE:America/New_York
BEGIN:VTIMEZONE
TZID:America/New_York
BEGIN:STANDARD
TZNAME:EST
DTSTART:20191103T020000
TZOFFSETFROM:-0400
TZOFFSETTO:-0500
RDATE:20201101T020000
RDATE:20211107T020000
END:STANDARD
BEGIN:DAYLIGHT
TZNAME:EDT
DTSTART:20200308T020000
TZOFFSETFROM:-0500
TZOFFSETTO:-0400
RDATE:20210314T020000
END:DAYLIGHT
END:VTIMEZONE
BEGIN:VEVENT
UID:8641f280-fb46-491f-9f3c-55de49f030d3
DTSTAMP:20260420T054440Z
DESCRIPTION:
DTSTART;TZID=America/New_York:20200528T103000
DTEND;TZID=America/New_York:20200528T120000
LOCATION:
SUMMARY:Circle of Hope with CIC
END:VEVENT
END:VCALENDAR
