BEGIN:VCALENDAR
VERSION:2.0
PRODID:-//www.hopeworxinc.org//NONSGML kigkonsult.se iCalcreator 2.30.10//
CALSCALE:GREGORIAN
METHOD:PUBLISH
UID:360a7975-e69a-4fe0-8cdf-cef420821476
X-WR-CALDESC:
X-WR-RELCALID:1a4c0f2aced921fe66ca253f899a1148
X-WR-TIMEZONE:America/New_York
BEGIN:VTIMEZONE
TZID:America/New_York
BEGIN:STANDARD
TZNAME:EST
DTSTART:20191103T020000
TZOFFSETFROM:-0400
TZOFFSETTO:-0500
RDATE:20201101T020000
RDATE:20211107T020000
END:STANDARD
BEGIN:DAYLIGHT
TZNAME:EDT
DTSTART:20200308T020000
TZOFFSETFROM:-0500
TZOFFSETTO:-0400
RDATE:20210314T020000
END:DAYLIGHT
END:VTIMEZONE
BEGIN:VEVENT
UID:b2bf1a96-ceca-48c8-a087-afcf0a932fea
DTSTAMP:20260420T070424Z
DESCRIPTION:
DTSTART;TZID=America/New_York:20200616T123000
DTEND;TZID=America/New_York:20200616T143000
LOCATION:
SUMMARY:Ask the Basket with Sandy Watson | HopeWorx | 12:30pm – 2:30pm
END:VEVENT
END:VCALENDAR
