BEGIN:VCALENDAR
VERSION:2.0
PRODID:-//www.hopeworxinc.org//NONSGML kigkonsult.se iCalcreator 2.30.10//
CALSCALE:GREGORIAN
METHOD:PUBLISH
UID:3fbe3c82-9386-445b-a4ee-f66614132514
X-WR-CALDESC:
X-WR-RELCALID:404d9b16cd8ff787f74fec3896ea5aff
X-WR-TIMEZONE:America/New_York
BEGIN:VTIMEZONE
TZID:America/New_York
BEGIN:STANDARD
TZNAME:EST
DTSTART:20191103T020000
TZOFFSETFROM:-0400
TZOFFSETTO:-0500
RDATE:20201101T020000
RDATE:20211107T020000
END:STANDARD
BEGIN:DAYLIGHT
TZNAME:EDT
DTSTART:20200308T020000
TZOFFSETFROM:-0500
TZOFFSETTO:-0400
RDATE:20210314T020000
END:DAYLIGHT
END:VTIMEZONE
BEGIN:VEVENT
UID:c83c6679-f735-4d66-9932-a6ab95da8688
DTSTAMP:20260420T070620Z
DESCRIPTION:
DTSTART;TZID=America/New_York:20200616T130000
DTEND;TZID=America/New_York:20200616T140000
LOCATION:
SUMMARY:Mindful Yoga | HopeWorx | 1:00pm – 2:00pm with Maria Evans
END:VEVENT
END:VCALENDAR
