BEGIN:VCALENDAR
VERSION:2.0
PRODID:-//www.hopeworxinc.org//NONSGML kigkonsult.se iCalcreator 2.30.10//
CALSCALE:GREGORIAN
METHOD:PUBLISH
UID:ad613ee5-621b-4161-8f3d-a5efbd4291e4
X-WR-CALDESC:
X-WR-RELCALID:7003526d8f7e917a3bbc21f15054e02d
X-WR-TIMEZONE:America/New_York
BEGIN:VTIMEZONE
TZID:America/New_York
BEGIN:STANDARD
TZNAME:EST
DTSTART:20191103T020000
TZOFFSETFROM:-0400
TZOFFSETTO:-0500
RDATE:20201101T020000
RDATE:20211107T020000
END:STANDARD
BEGIN:DAYLIGHT
TZNAME:EDT
DTSTART:20200308T020000
TZOFFSETFROM:-0500
TZOFFSETTO:-0400
RDATE:20210314T020000
END:DAYLIGHT
END:VTIMEZONE
BEGIN:VEVENT
UID:3600f485-b73c-45cc-af8c-1ed23b4cdd21
DTSTAMP:20260420T070009Z
DESCRIPTION:
DTSTART;TZID=America/New_York:20200618T103000
DTEND;TZID=America/New_York:20200618T120000
LOCATION:
SUMMARY:Circle of Hope with CIC
END:VEVENT
END:VCALENDAR
