BEGIN:VCALENDAR
VERSION:2.0
PRODID:-//www.hopeworxinc.org//NONSGML kigkonsult.se iCalcreator 2.30.10//
CALSCALE:GREGORIAN
METHOD:PUBLISH
UID:86798a36-fa19-4a7b-b04c-358c4ead6844
X-WR-CALDESC:
X-WR-RELCALID:5fa2e4290bb2a56e1dc95e3b141e4a83
X-WR-TIMEZONE:America/New_York
BEGIN:VTIMEZONE
TZID:America/New_York
BEGIN:STANDARD
TZNAME:EST
DTSTART:20191103T020000
TZOFFSETFROM:-0400
TZOFFSETTO:-0500
RDATE:20201101T020000
RDATE:20211107T020000
END:STANDARD
BEGIN:DAYLIGHT
TZNAME:EDT
DTSTART:20200308T020000
TZOFFSETFROM:-0500
TZOFFSETTO:-0400
RDATE:20210314T020000
END:DAYLIGHT
END:VTIMEZONE
BEGIN:VEVENT
UID:6a904af2-5992-412f-966b-f45015b155b2
DTSTAMP:20260424T085022Z
DESCRIPTION:
DTSTART;TZID=America/New_York:20200720T150000
DTEND;TZID=America/New_York:20200720T163000
LOCATION:
SUMMARY:Montgomery County Hearing Voices Network (MCHVN) - 'Taking Back Our
  Power' | HopeWorx | 3:00pm – 4:30pm with CIC
END:VEVENT
END:VCALENDAR
