BEGIN:VCALENDAR
VERSION:2.0
PRODID:-//www.hopeworxinc.org//NONSGML kigkonsult.se iCalcreator 2.30.10//
CALSCALE:GREGORIAN
METHOD:PUBLISH
UID:b84acc30-f15b-40e2-b7d6-2192e14b00f5
X-WR-CALDESC:
X-WR-RELCALID:7a56fa7f018c5cca05adbdd8028b6d3b
X-WR-TIMEZONE:America/New_York
BEGIN:VTIMEZONE
TZID:America/New_York
BEGIN:STANDARD
TZNAME:EST
DTSTART:20191103T020000
TZOFFSETFROM:-0400
TZOFFSETTO:-0500
RDATE:20201101T020000
RDATE:20211107T020000
END:STANDARD
BEGIN:DAYLIGHT
TZNAME:EDT
DTSTART:20200308T020000
TZOFFSETFROM:-0500
TZOFFSETTO:-0400
RDATE:20210314T020000
END:DAYLIGHT
END:VTIMEZONE
BEGIN:VEVENT
UID:7220c946-f8d2-4dfc-9e77-df073f8577cf
DTSTAMP:20260424T084637Z
DESCRIPTION:
DTSTART;TZID=America/New_York:20200724T120000
DTEND;TZID=America/New_York:20200724T150000
LOCATION:
SUMMARY:Community Art with Maria Maneos (BWTL)
END:VEVENT
END:VCALENDAR
