BEGIN:VCALENDAR
VERSION:2.0
PRODID:-//www.hopeworxinc.org//NONSGML kigkonsult.se iCalcreator 2.30.10//
CALSCALE:GREGORIAN
METHOD:PUBLISH
UID:77348782-591d-4ff0-8912-95a75fb77e52
X-WR-CALDESC:
X-WR-RELCALID:f8182f0cf4409620d5dae0a127b4cdd7
X-WR-TIMEZONE:America/New_York
BEGIN:VTIMEZONE
TZID:America/New_York
BEGIN:STANDARD
TZNAME:EST
DTSTART:20191103T020000
TZOFFSETFROM:-0400
TZOFFSETTO:-0500
RDATE:20201101T020000
RDATE:20211107T020000
END:STANDARD
BEGIN:DAYLIGHT
TZNAME:EDT
DTSTART:20200308T020000
TZOFFSETFROM:-0500
TZOFFSETTO:-0400
RDATE:20210314T020000
END:DAYLIGHT
END:VTIMEZONE
BEGIN:VEVENT
UID:0d7a7fda-cb31-408d-b801-02ea64c749f7
DTSTAMP:20260424T102708Z
DESCRIPTION:
DTSTART;TZID=America/New_York:20200803T140000
DTEND;TZID=America/New_York:20200803T160000
LOCATION:
SUMMARY:SE Regional CSP Committee Meeting
END:VEVENT
END:VCALENDAR
