BEGIN:VCALENDAR
VERSION:2.0
PRODID:-//www.hopeworxinc.org//NONSGML kigkonsult.se iCalcreator 2.30.10//
CALSCALE:GREGORIAN
METHOD:PUBLISH
UID:01af3880-1b4c-4a38-adb6-7dd88f53a28b
X-WR-CALDESC:Learn how to use Microsoft Word\, Publisher\, Excel and Powerp
 oint
X-WR-RELCALID:a6a9873822f48b47c92ffbd2c3fa21c5
X-WR-TIMEZONE:America/New_York
BEGIN:VTIMEZONE
TZID:America/New_York
BEGIN:STANDARD
TZNAME:EST
DTSTART:20191103T020000
TZOFFSETFROM:-0400
TZOFFSETTO:-0500
RDATE:20201101T020000
RDATE:20211107T020000
END:STANDARD
BEGIN:DAYLIGHT
TZNAME:EDT
DTSTART:20200308T020000
TZOFFSETFROM:-0500
TZOFFSETTO:-0400
RDATE:20210314T020000
END:DAYLIGHT
END:VTIMEZONE
BEGIN:VEVENT
UID:09b2db86-e36c-4810-a529-ef3dc41b89c7
DTSTAMP:20260424T084011Z
DESCRIPTION:Learn how to use Microsoft Word\, Publisher\, Excel and Powerpo
 int
DTSTART;TZID=America/New_York:20200803T180000
DTEND;TZID=America/New_York:20200803T200000
LOCATION:Virtual
SUMMARY:Computer Class with Johan
END:VEVENT
END:VCALENDAR
