BEGIN:VCALENDAR
VERSION:2.0
PRODID:-//www.hopeworxinc.org//NONSGML kigkonsult.se iCalcreator 2.30.10//
CALSCALE:GREGORIAN
METHOD:PUBLISH
UID:8157095e-fa65-4f41-bc2f-2738e2a344d0
X-WR-CALDESC:
X-WR-RELCALID:31b0942ef7980b6330a335b5a24162d9
X-WR-TIMEZONE:America/New_York
BEGIN:VTIMEZONE
TZID:America/New_York
BEGIN:STANDARD
TZNAME:EST
DTSTART:20191103T020000
TZOFFSETFROM:-0400
TZOFFSETTO:-0500
RDATE:20201101T020000
RDATE:20211107T020000
END:STANDARD
BEGIN:DAYLIGHT
TZNAME:EDT
DTSTART:20200308T020000
TZOFFSETFROM:-0500
TZOFFSETTO:-0400
RDATE:20210314T020000
END:DAYLIGHT
END:VTIMEZONE
BEGIN:VEVENT
UID:040cd882-9bc7-4475-a0ab-4d8025080aa9
DTSTAMP:20260420T094605Z
DESCRIPTION:
DTSTART;TZID=America/New_York:20200806T150000
DTEND;TZID=America/New_York:20200806T170000
LOCATION:Virtual
SUMMARY:Community Art with BWTL
END:VEVENT
END:VCALENDAR
