BEGIN:VCALENDAR
VERSION:2.0
PRODID:-//www.hopeworxinc.org//NONSGML kigkonsult.se iCalcreator 2.30.10//
CALSCALE:GREGORIAN
METHOD:PUBLISH
UID:ef531a50-c1f4-4be3-8d91-0c5d59a8dd66
X-WR-CALDESC:Join Hopeworx on Tuesdays and Fridays from 8 to 9 a.m. for the
  Summer Walk Challenge!
X-WR-RELCALID:ef8b5fa4248bc3224c66cf2ca06b3e4f
X-WR-TIMEZONE:America/New_York
BEGIN:VTIMEZONE
TZID:America/New_York
BEGIN:STANDARD
TZNAME:EST
DTSTART:20191103T020000
TZOFFSETFROM:-0400
TZOFFSETTO:-0500
RDATE:20201101T020000
RDATE:20211107T020000
END:STANDARD
BEGIN:DAYLIGHT
TZNAME:EDT
DTSTART:20200308T020000
TZOFFSETFROM:-0500
TZOFFSETTO:-0400
RDATE:20210314T020000
END:DAYLIGHT
END:VTIMEZONE
BEGIN:VEVENT
UID:645304f3-60fe-45ca-a322-a751c5cec18b
DTSTAMP:20260420T094747Z
DESCRIPTION:Join Hopeworx on Tuesdays and Fridays from 8 to 9 a.m. for the 
 Summer Walk Challenge!
DTSTART;TZID=America/New_York:20200807T080000
DTEND;TZID=America/New_York:20200807T090000
LOCATION:Hopeworx in Norristown
SUMMARY:Summer Walk Challenge
END:VEVENT
END:VCALENDAR
