BEGIN:VCALENDAR
VERSION:2.0
PRODID:-//www.hopeworxinc.org//NONSGML kigkonsult.se iCalcreator 2.30.10//
CALSCALE:GREGORIAN
METHOD:PUBLISH
UID:2e6d7627-bcec-4048-accc-91f869984733
X-WR-CALDESC:Learn how to use Microsoft Word\, Publisher\, Excel and Powerp
 oint
X-WR-RELCALID:6ff6e705f2c31318441e1fc94428b820
X-WR-TIMEZONE:America/New_York
BEGIN:VTIMEZONE
TZID:America/New_York
BEGIN:STANDARD
TZNAME:EST
DTSTART:20191103T020000
TZOFFSETFROM:-0400
TZOFFSETTO:-0500
RDATE:20201101T020000
RDATE:20211107T020000
END:STANDARD
BEGIN:DAYLIGHT
TZNAME:EDT
DTSTART:20200308T020000
TZOFFSETFROM:-0500
TZOFFSETTO:-0400
RDATE:20210314T020000
END:DAYLIGHT
END:VTIMEZONE
BEGIN:VEVENT
UID:7354a3f0-7484-4ef0-b598-c6b8b643fa4b
DTSTAMP:20260420T095537Z
DESCRIPTION:Learn how to use Microsoft Word\, Publisher\, Excel and Powerpo
 int
DTSTART;TZID=America/New_York:20200810T180000
DTEND;TZID=America/New_York:20200810T200000
LOCATION:Virtual
SUMMARY:Computer Class with Johan
END:VEVENT
END:VCALENDAR
