BEGIN:VCALENDAR
VERSION:2.0
PRODID:-//www.hopeworxinc.org//NONSGML kigkonsult.se iCalcreator 2.30.10//
CALSCALE:GREGORIAN
METHOD:PUBLISH
UID:cc92c322-5cfe-44e0-ad3a-41e4e79321cc
X-WR-CALDESC:Join Hopeworx on Tuesdays and Fridays from 8 to 9 a.m. for the
  Summer Walk Challenge!
X-WR-RELCALID:b82ba7c50876f5abb841106af830f4c8
X-WR-TIMEZONE:America/New_York
BEGIN:VTIMEZONE
TZID:America/New_York
BEGIN:STANDARD
TZNAME:EST
DTSTART:20191103T020000
TZOFFSETFROM:-0400
TZOFFSETTO:-0500
RDATE:20201101T020000
RDATE:20211107T020000
END:STANDARD
BEGIN:DAYLIGHT
TZNAME:EDT
DTSTART:20200308T020000
TZOFFSETFROM:-0500
TZOFFSETTO:-0400
RDATE:20210314T020000
END:DAYLIGHT
END:VTIMEZONE
BEGIN:VEVENT
UID:f1786dac-5a04-4837-a23f-836ef6a4be4a
DTSTAMP:20260420T095710Z
DESCRIPTION:Join Hopeworx on Tuesdays and Fridays from 8 to 9 a.m. for the 
 Summer Walk Challenge!
DTSTART;TZID=America/New_York:20200811T080000
DTEND;TZID=America/New_York:20200811T090000
LOCATION:
SUMMARY:Summer Walk Challenge
END:VEVENT
END:VCALENDAR
