BEGIN:VCALENDAR
VERSION:2.0
PRODID:-//www.hopeworxinc.org//NONSGML kigkonsult.se iCalcreator 2.30.10//
CALSCALE:GREGORIAN
METHOD:PUBLISH
UID:8a24d55a-9a7f-417f-89e6-ca982bd9970c
X-WR-CALDESC:
X-WR-RELCALID:7ed1f183e913259bb37b125054862602
X-WR-TIMEZONE:America/New_York
BEGIN:VTIMEZONE
TZID:America/New_York
BEGIN:STANDARD
TZNAME:EST
DTSTART:20191103T020000
TZOFFSETFROM:-0400
TZOFFSETTO:-0500
RDATE:20201101T020000
RDATE:20211107T020000
END:STANDARD
BEGIN:DAYLIGHT
TZNAME:EDT
DTSTART:20200308T020000
TZOFFSETFROM:-0500
TZOFFSETTO:-0400
RDATE:20210314T020000
END:DAYLIGHT
END:VTIMEZONE
BEGIN:VEVENT
UID:687f89b0-c815-4a4e-99af-ab4886014eeb
DTSTAMP:20260420T094738Z
DESCRIPTION:
DTSTART;TZID=America/New_York:20200813T150000
DTEND;TZID=America/New_York:20200813T170000
LOCATION:Virtual
SUMMARY:Community Art
END:VEVENT
END:VCALENDAR
