BEGIN:VCALENDAR
VERSION:2.0
PRODID:-//www.hopeworxinc.org//NONSGML kigkonsult.se iCalcreator 2.30.10//
CALSCALE:GREGORIAN
METHOD:PUBLISH
UID:2f07eb59-ee6a-4c0b-a2d8-6f9010e91fcf
X-WR-CALDESC:Join Hopeworx on Tuesdays and Fridays from 8 to 9 a.m. for the
  Summer Walk Challenge!
X-WR-RELCALID:9fc05b58eecdac6265379abb52537418
X-WR-TIMEZONE:America/New_York
BEGIN:VTIMEZONE
TZID:America/New_York
BEGIN:STANDARD
TZNAME:EST
DTSTART:20191103T020000
TZOFFSETFROM:-0400
TZOFFSETTO:-0500
RDATE:20201101T020000
RDATE:20211107T020000
END:STANDARD
BEGIN:DAYLIGHT
TZNAME:EDT
DTSTART:20200308T020000
TZOFFSETFROM:-0500
TZOFFSETTO:-0400
RDATE:20210314T020000
END:DAYLIGHT
END:VTIMEZONE
BEGIN:VEVENT
UID:cf8970d7-6948-4634-bf80-f37954ea7c55
DTSTAMP:20260420T094723Z
DESCRIPTION:Join Hopeworx on Tuesdays and Fridays from 8 to 9 a.m. for the 
 Summer Walk Challenge!
DTSTART;TZID=America/New_York:20200814T080000
DTEND;TZID=America/New_York:20200814T090000
LOCATION:Hopeworx in Norristown
SUMMARY:Summer Walk Challenge
END:VEVENT
END:VCALENDAR
