BEGIN:VCALENDAR
VERSION:2.0
PRODID:-//www.hopeworxinc.org//NONSGML kigkonsult.se iCalcreator 2.30.10//
CALSCALE:GREGORIAN
METHOD:PUBLISH
UID:a7d5ee46-4587-4636-a95b-5b03b4528568
X-WR-CALDESC:Learn how to use Microsoft Word\, Publisher\, Excel and Powerp
 oint
X-WR-RELCALID:22a39d5a25a5378fe37cf9cc15f114ad
X-WR-TIMEZONE:America/New_York
BEGIN:VTIMEZONE
TZID:America/New_York
BEGIN:STANDARD
TZNAME:EST
DTSTART:20191103T020000
TZOFFSETFROM:-0400
TZOFFSETTO:-0500
RDATE:20201101T020000
RDATE:20211107T020000
END:STANDARD
BEGIN:DAYLIGHT
TZNAME:EDT
DTSTART:20200308T020000
TZOFFSETFROM:-0500
TZOFFSETTO:-0400
RDATE:20210314T020000
END:DAYLIGHT
END:VTIMEZONE
BEGIN:VEVENT
UID:dfe71d38-77a4-41f5-be61-cdbd79a136af
DTSTAMP:20260420T095138Z
DESCRIPTION:Learn how to use Microsoft Word\, Publisher\, Excel and Powerpo
 int
DTSTART;TZID=America/New_York:20200817T180000
DTEND;TZID=America/New_York:20200817T200000
LOCATION:Virtual
SUMMARY:Computer Class with Johan
END:VEVENT
END:VCALENDAR
