BEGIN:VCALENDAR
VERSION:2.0
PRODID:-//www.hopeworxinc.org//NONSGML kigkonsult.se iCalcreator 2.30.10//
CALSCALE:GREGORIAN
METHOD:PUBLISH
UID:8da6e243-bb75-4206-8d35-9516118af4dc
X-WR-CALDESC:
X-WR-RELCALID:76eb2d13b83ff0ee40fd8eb22811f248
X-WR-TIMEZONE:America/New_York
BEGIN:VTIMEZONE
TZID:America/New_York
BEGIN:STANDARD
TZNAME:EST
DTSTART:20191103T020000
TZOFFSETFROM:-0400
TZOFFSETTO:-0500
RDATE:20201101T020000
RDATE:20211107T020000
END:STANDARD
BEGIN:DAYLIGHT
TZNAME:EDT
DTSTART:20200308T020000
TZOFFSETFROM:-0500
TZOFFSETTO:-0400
RDATE:20210314T020000
END:DAYLIGHT
END:VTIMEZONE
BEGIN:VEVENT
UID:3c975d95-38e4-433d-bc9f-9c074d36d4c2
DTSTAMP:20260420T094921Z
DESCRIPTION:
DTSTART;TZID=America/New_York:20200820T150000
DTEND;TZID=America/New_York:20200820T170000
LOCATION:Virtual
SUMMARY:Community Art
END:VEVENT
END:VCALENDAR
