BEGIN:VCALENDAR
VERSION:2.0
PRODID:-//www.hopeworxinc.org//NONSGML kigkonsult.se iCalcreator 2.30.10//
CALSCALE:GREGORIAN
METHOD:PUBLISH
UID:adf828f2-d9b0-47bf-91c9-7762e74f6cae
X-WR-CALDESC:
X-WR-RELCALID:2f81672d2a77f13368b8c8d9d6ede728
X-WR-TIMEZONE:America/New_York
BEGIN:VTIMEZONE
TZID:America/New_York
BEGIN:STANDARD
TZNAME:EST
DTSTART:20191103T020000
TZOFFSETFROM:-0400
TZOFFSETTO:-0500
RDATE:20201101T020000
RDATE:20211107T020000
END:STANDARD
BEGIN:DAYLIGHT
TZNAME:EDT
DTSTART:20200308T020000
TZOFFSETFROM:-0500
TZOFFSETTO:-0400
RDATE:20210314T020000
END:DAYLIGHT
END:VTIMEZONE
BEGIN:VEVENT
UID:9e73a06e-da1e-4add-9d00-4906e7eca606
DTSTAMP:20260420T095033Z
DESCRIPTION:
DTSTART;TZID=America/New_York:20200821T150000
DTEND;TZID=America/New_York:20200823T120000
LOCATION:Green Lane Park
SUMMARY:Camping at Green Lane
END:VEVENT
END:VCALENDAR
