BEGIN:VCALENDAR
VERSION:2.0
PRODID:-//www.hopeworxinc.org//NONSGML kigkonsult.se iCalcreator 2.30.10//
CALSCALE:GREGORIAN
METHOD:PUBLISH
UID:2ec6f50d-e7fd-4a38-a7f4-660405655bb3
X-WR-CALDESC:Learn how to use Microsoft Word\, Publisher\, Excel and Powerp
 oint
X-WR-RELCALID:69c09d914cc67afac3a2e8814ba0ad38
X-WR-TIMEZONE:America/New_York
BEGIN:VTIMEZONE
TZID:America/New_York
BEGIN:STANDARD
TZNAME:EST
DTSTART:20191103T020000
TZOFFSETFROM:-0400
TZOFFSETTO:-0500
RDATE:20201101T020000
RDATE:20211107T020000
END:STANDARD
BEGIN:DAYLIGHT
TZNAME:EDT
DTSTART:20200308T020000
TZOFFSETFROM:-0500
TZOFFSETTO:-0400
RDATE:20210314T020000
END:DAYLIGHT
END:VTIMEZONE
BEGIN:VEVENT
UID:5903f871-39f4-4559-8569-531010bcbdd3
DTSTAMP:20260424T100304Z
DESCRIPTION:Learn how to use Microsoft Word\, Publisher\, Excel and Powerpo
 int
DTSTART;TZID=America/New_York:20200824T180000
DTEND;TZID=America/New_York:20200824T200000
LOCATION:Virtual
SUMMARY:Computer Class with Johan
END:VEVENT
END:VCALENDAR
