BEGIN:VCALENDAR
VERSION:2.0
PRODID:-//www.hopeworxinc.org//NONSGML kigkonsult.se iCalcreator 2.30.10//
CALSCALE:GREGORIAN
METHOD:PUBLISH
UID:9cf96c62-9fdc-405e-898a-875ef868bce5
X-WR-CALDESC:Join Hopeworx on Tuesdays and Fridays from 8 to 9 a.m. for the
  Summer Walk Challenge!
X-WR-RELCALID:f00d13c7c475ff38c30e4db89f5a13d5
X-WR-TIMEZONE:America/New_York
BEGIN:VTIMEZONE
TZID:America/New_York
BEGIN:STANDARD
TZNAME:EST
DTSTART:20191103T020000
TZOFFSETFROM:-0400
TZOFFSETTO:-0500
RDATE:20201101T020000
RDATE:20211107T020000
END:STANDARD
BEGIN:DAYLIGHT
TZNAME:EDT
DTSTART:20200308T020000
TZOFFSETFROM:-0500
TZOFFSETTO:-0400
RDATE:20210314T020000
END:DAYLIGHT
END:VTIMEZONE
BEGIN:VEVENT
UID:9df3bc5e-9a56-47d7-a0b6-75bdc1a9d01e
DTSTAMP:20260420T095207Z
DESCRIPTION:Join Hopeworx on Tuesdays and Fridays from 8 to 9 a.m. for the 
 Summer Walk Challenge!
DTSTART;TZID=America/New_York:20200825T080000
DTEND;TZID=America/New_York:20200825T090000
LOCATION:
SUMMARY:Summer Walk Challenge
END:VEVENT
END:VCALENDAR
