BEGIN:VCALENDAR
VERSION:2.0
PRODID:-//www.hopeworxinc.org//NONSGML kigkonsult.se iCalcreator 2.30.10//
CALSCALE:GREGORIAN
METHOD:PUBLISH
UID:4b1ba831-da2d-4ea7-b9dd-ad76d70ac1c4
X-WR-CALDESC:
X-WR-RELCALID:d60644d9d8ae1c5e7a81b41ca1a33e5f
X-WR-TIMEZONE:America/New_York
BEGIN:VTIMEZONE
TZID:America/New_York
BEGIN:STANDARD
TZNAME:EST
DTSTART:20191103T020000
TZOFFSETFROM:-0400
TZOFFSETTO:-0500
RDATE:20201101T020000
RDATE:20211107T020000
END:STANDARD
BEGIN:DAYLIGHT
TZNAME:EDT
DTSTART:20200308T020000
TZOFFSETFROM:-0500
TZOFFSETTO:-0400
RDATE:20210314T020000
END:DAYLIGHT
END:VTIMEZONE
BEGIN:VEVENT
UID:a96667e6-cfac-4ad9-8b5f-05fbbe8c5bd0
DTSTAMP:20260420T094213Z
DESCRIPTION:
DTSTART;TZID=America/New_York:20200827T150000
DTEND;TZID=America/New_York:20200827T170000
LOCATION:Virtual
SUMMARY:Community Art
END:VEVENT
END:VCALENDAR
