BEGIN:VCALENDAR
VERSION:2.0
PRODID:-//www.hopeworxinc.org//NONSGML kigkonsult.se iCalcreator 2.30.10//
CALSCALE:GREGORIAN
METHOD:PUBLISH
UID:102f8e09-3d1e-4d71-bb91-128eee8f32a0
X-WR-CALDESC:Join Hopeworx on Tuesdays and Fridays from 8 to 9 a.m. for the
  Summer Walk Challenge!
X-WR-RELCALID:f59f72c9072785d2c15fb479f5780114
X-WR-TIMEZONE:America/New_York
BEGIN:VTIMEZONE
TZID:America/New_York
BEGIN:STANDARD
TZNAME:EST
DTSTART:20191103T020000
TZOFFSETFROM:-0400
TZOFFSETTO:-0500
RDATE:20201101T020000
RDATE:20211107T020000
END:STANDARD
BEGIN:DAYLIGHT
TZNAME:EDT
DTSTART:20200308T020000
TZOFFSETFROM:-0500
TZOFFSETTO:-0400
RDATE:20210314T020000
END:DAYLIGHT
END:VTIMEZONE
BEGIN:VEVENT
UID:5bdfcb63-12cc-433b-b573-8d16bc6c3e2d
DTSTAMP:20260420T095433Z
DESCRIPTION:Join Hopeworx on Tuesdays and Fridays from 8 to 9 a.m. for the 
 Summer Walk Challenge!
DTSTART;TZID=America/New_York:20200828T080000
DTEND;TZID=America/New_York:20200828T090000
LOCATION:Hopeworx in Norristown
SUMMARY:Summer Walk Challenge
END:VEVENT
END:VCALENDAR
