BEGIN:VCALENDAR
VERSION:2.0
PRODID:-//www.hopeworxinc.org//NONSGML kigkonsult.se iCalcreator 2.30.10//
CALSCALE:GREGORIAN
METHOD:PUBLISH
UID:5da082d3-8736-457d-aa33-d7b3e86c6547
X-WR-CALDESC:Learn how to use Microsoft Word\, Publisher\, Excel and Powerp
 oint
X-WR-RELCALID:a3c4fe3576f6c9bb2bb72cf03f7f6080
X-WR-TIMEZONE:America/New_York
BEGIN:VTIMEZONE
TZID:America/New_York
BEGIN:STANDARD
TZNAME:EST
DTSTART:20191103T020000
TZOFFSETFROM:-0400
TZOFFSETTO:-0500
RDATE:20201101T020000
RDATE:20211107T020000
END:STANDARD
BEGIN:DAYLIGHT
TZNAME:EDT
DTSTART:20200308T020000
TZOFFSETFROM:-0500
TZOFFSETTO:-0400
RDATE:20210314T020000
END:DAYLIGHT
END:VTIMEZONE
BEGIN:VEVENT
UID:2855d120-cab5-450a-9e5c-3be8f963b4e8
DTSTAMP:20260424T100325Z
DESCRIPTION:Learn how to use Microsoft Word\, Publisher\, Excel and Powerpo
 int
DTSTART;TZID=America/New_York:20200831T180000
DTEND;TZID=America/New_York:20200831T200000
LOCATION:Virtual
SUMMARY:Computer Class with Johan
END:VEVENT
END:VCALENDAR
