BEGIN:VCALENDAR
VERSION:2.0
PRODID:-//www.hopeworxinc.org//NONSGML kigkonsult.se iCalcreator 2.30.10//
CALSCALE:GREGORIAN
METHOD:PUBLISH
UID:1b635a55-e1ba-400e-b2f5-f69cb5bd5449
X-WR-CALDESC:
X-WR-RELCALID:a4b3a0055532badcefd0fd4237582688
X-WR-TIMEZONE:America/New_York
BEGIN:VTIMEZONE
TZID:America/New_York
BEGIN:STANDARD
TZNAME:EST
DTSTART:20191103T020000
TZOFFSETFROM:-0400
TZOFFSETTO:-0500
RDATE:20201101T020000
RDATE:20211107T020000
END:STANDARD
BEGIN:DAYLIGHT
TZNAME:EDT
DTSTART:20200308T020000
TZOFFSETFROM:-0500
TZOFFSETTO:-0400
RDATE:20210314T020000
RDATE:20220313T020000
END:DAYLIGHT
END:VTIMEZONE
BEGIN:VEVENT
UID:d2aceb17-4625-492b-a54d-9da96cfb5cc2
DTSTAMP:20260420T081720Z
DESCRIPTION:
DTSTART;TZID=America/New_York:20200917T150000
DTEND;TZID=America/New_York:20200917T170000
LOCATION:
SUMMARY:Community Art
END:VEVENT
END:VCALENDAR
