BEGIN:VCALENDAR
VERSION:2.0
PRODID:-//www.hopeworxinc.org//NONSGML kigkonsult.se iCalcreator 2.30.10//
CALSCALE:GREGORIAN
METHOD:PUBLISH
UID:e4502336-137b-4f59-aeda-32a10e277198
X-WR-CALDESC:
X-WR-RELCALID:d41ca3ff46338d9422fda112e2971d8d
X-WR-TIMEZONE:America/New_York
BEGIN:VTIMEZONE
TZID:America/New_York
BEGIN:STANDARD
TZNAME:EST
DTSTART:20191103T020000
TZOFFSETFROM:-0400
TZOFFSETTO:-0500
RDATE:20201101T020000
RDATE:20211107T020000
END:STANDARD
BEGIN:DAYLIGHT
TZNAME:EDT
DTSTART:20200308T020000
TZOFFSETFROM:-0500
TZOFFSETTO:-0400
RDATE:20210314T020000
RDATE:20220313T020000
END:DAYLIGHT
END:VTIMEZONE
BEGIN:VEVENT
UID:c073fb02-61a4-4b7d-bfe3-1e9e17097116
DTSTAMP:20260421T152136Z
DESCRIPTION:
DTSTART;TZID=America/New_York:20201021T100000
DTEND;TZID=America/New_York:20201021T103000
LOCATION:Meet at Hopeworx
SUMMARY:Meditation/Mindful Yoga with John via Zoom
END:VEVENT
END:VCALENDAR
