BEGIN:VCALENDAR
VERSION:2.0
PRODID:-//www.hopeworxinc.org//NONSGML kigkonsult.se iCalcreator 2.30.10//
CALSCALE:GREGORIAN
METHOD:PUBLISH
UID:3daa8629-70dd-4d61-a36b-6b7be899c7e3
X-WR-CALDESC:
X-WR-RELCALID:0d3b38c766d3c2056d984e42be4b3524
X-WR-TIMEZONE:America/New_York
BEGIN:VTIMEZONE
TZID:America/New_York
BEGIN:STANDARD
TZNAME:EST
DTSTART:20231105T020000
TZOFFSETFROM:-0400
TZOFFSETTO:-0500
RDATE:20241103T020000
END:STANDARD
BEGIN:DAYLIGHT
TZNAME:EDT
DTSTART:20240310T020000
TZOFFSETFROM:-0500
TZOFFSETTO:-0400
RDATE:20250309T020000
END:DAYLIGHT
END:VTIMEZONE
BEGIN:VEVENT
UID:c051bdb0-a969-4a2d-bd0e-aff688481e62
DTSTAMP:20260422T074012Z
DESCRIPTION:
DTSTART;TZID=America/New_York:20240325T133000
DTEND;TZID=America/New_York:20240325T153000
LOCATION:1210 Stanbridge Street\, Suite 600\, Norristown\, PA 19401 US
SUMMARY:Pledge to Vote 2024
END:VEVENT
END:VCALENDAR
