BEGIN:VCALENDAR
VERSION:2.0
PRODID:-//www.hopeworxinc.org//NONSGML kigkonsult.se iCalcreator 2.30.10//
CALSCALE:GREGORIAN
METHOD:PUBLISH
UID:d0d06a28-d897-4b13-98d0-988e888c2d57
X-WR-CALDESC:
X-WR-RELCALID:073f3676575dd33e665eef8248713f8c
X-WR-TIMEZONE:America/New_York
BEGIN:VTIMEZONE
TZID:America/New_York
BEGIN:STANDARD
TZNAME:EST
DTSTART:20231105T020000
TZOFFSETFROM:-0400
TZOFFSETTO:-0500
RDATE:20241103T020000
END:STANDARD
BEGIN:DAYLIGHT
TZNAME:EDT
DTSTART:20240310T020000
TZOFFSETFROM:-0500
TZOFFSETTO:-0400
RDATE:20250309T020000
END:DAYLIGHT
END:VTIMEZONE
BEGIN:VEVENT
UID:223bba1d-814b-4f46-bdc5-c06213f8d180
DTSTAMP:20260422T061738Z
DESCRIPTION:
DTSTART;TZID=America/New_York:20240401T140000
DTEND;TZID=America/New_York:20240401T160000
LOCATION:
SUMMARY:SE Regional CSP Committee Meeting
END:VEVENT
END:VCALENDAR
