BEGIN:VCALENDAR
VERSION:2.0
PRODID:-//www.hopeworxinc.org//NONSGML kigkonsult.se iCalcreator 2.30.10//
CALSCALE:GREGORIAN
METHOD:PUBLISH
UID:3fc24f96-ae0b-4c5a-adbb-5d15ead219d9
X-WR-CALDESC:
X-WR-RELCALID:7314b8c9c892470b69f744ba7dc7bdd2
X-WR-TIMEZONE:America/New_York
BEGIN:VTIMEZONE
TZID:America/New_York
BEGIN:STANDARD
TZNAME:EST
DTSTART:20231105T020000
TZOFFSETFROM:-0400
TZOFFSETTO:-0500
RDATE:20241103T020000
RDATE:20251102T020000
END:STANDARD
BEGIN:DAYLIGHT
TZNAME:EDT
DTSTART:20240310T020000
TZOFFSETFROM:-0500
TZOFFSETTO:-0400
RDATE:20250309T020000
END:DAYLIGHT
END:VTIMEZONE
BEGIN:VEVENT
UID:9b14b80a-142c-484d-b2d5-66ac89ac03ba
DTSTAMP:20260422T043531Z
DESCRIPTION:
DTSTART;TZID=America/New_York:20240514T100000
DTEND;TZID=America/New_York:20240514T140000
LOCATION:
SUMMARY:Montco CSP Conference 2024
END:VEVENT
END:VCALENDAR
