BEGIN:VCALENDAR
VERSION:2.0
PRODID:-//www.hopeworxinc.org//NONSGML kigkonsult.se iCalcreator 2.30.10//
CALSCALE:GREGORIAN
METHOD:PUBLISH
UID:d4fa9919-cf5b-41a0-b82e-d6baa9a2e6c5
X-WR-CALDESC:Join us for an evening of celebration\, fun\, food\, drink\, r
 affles and awards!
X-WR-RELCALID:0b639e18234dd2976494dc1f14e08961
X-WR-TIMEZONE:America/New_York
BEGIN:VTIMEZONE
TZID:America/New_York
BEGIN:STANDARD
TZNAME:EST
DTSTART:20231105T020000
TZOFFSETFROM:-0400
TZOFFSETTO:-0500
RDATE:20241103T020000
RDATE:20251102T020000
END:STANDARD
BEGIN:DAYLIGHT
TZNAME:EDT
DTSTART:20240310T020000
TZOFFSETFROM:-0500
TZOFFSETTO:-0400
RDATE:20250309T020000
END:DAYLIGHT
END:VTIMEZONE
BEGIN:VEVENT
UID:05da1b44-c0cf-452e-bdf3-ffe0b00555de
DTSTAMP:20260422T030039Z
DESCRIPTION:Join us for an evening of celebration\, fun\, food\, drink\, ra
 ffles and awards!
DTSTART;TZID=America/New_York:20240624T170000
DTEND;TZID=America/New_York:20240624T200000
LOCATION:von C Brewery\, 1210 Stanbridge St.\, Suite 300\, Norristown\, PA 
 19401 US
SUMMARY:HopeWorx 30th Anniversary Celebration
END:VEVENT
END:VCALENDAR
