BEGIN:VCALENDAR
VERSION:2.0
PRODID:-//www.hopeworxinc.org//NONSGML kigkonsult.se iCalcreator 2.30.10//
CALSCALE:GREGORIAN
METHOD:PUBLISH
UID:10696df9-acea-4844-8656-7e4fd776c5d4
X-WR-CALDESC:
X-WR-RELCALID:6f48be80a32c6a0852a21e66ab54b1b9
X-WR-TIMEZONE:America/New_York
BEGIN:VTIMEZONE
TZID:America/New_York
BEGIN:STANDARD
TZNAME:EST
DTSTART:20231105T020000
TZOFFSETFROM:-0400
TZOFFSETTO:-0500
RDATE:20241103T020000
RDATE:20251102T020000
END:STANDARD
BEGIN:DAYLIGHT
TZNAME:EDT
DTSTART:20240310T020000
TZOFFSETFROM:-0500
TZOFFSETTO:-0400
RDATE:20250309T020000
END:DAYLIGHT
END:VTIMEZONE
BEGIN:VEVENT
UID:5299e501-52ea-49e4-a8bd-d84c209eb13c
DTSTAMP:20260421T235852Z
DESCRIPTION:
DTSTART;TZID=America/New_York:20240805T140000
DTEND;TZID=America/New_York:20240805T160000
LOCATION:
SUMMARY:SE Regional CSP Committee Meeting
END:VEVENT
END:VCALENDAR
