BEGIN:VCALENDAR
VERSION:2.0
PRODID:-//www.hopeworxinc.org//NONSGML kigkonsult.se iCalcreator 2.30.10//
CALSCALE:GREGORIAN
METHOD:PUBLISH
UID:db14bd9e-05aa-4505-8704-ac33df7e911e
X-WR-CALDESC:
X-WR-RELCALID:32c871a77bad84a1a212a8ba3060a441
X-WR-TIMEZONE:America/New_York
BEGIN:VTIMEZONE
TZID:America/New_York
BEGIN:STANDARD
TZNAME:EST
DTSTART:20231105T020000
TZOFFSETFROM:-0400
TZOFFSETTO:-0500
RDATE:20241103T020000
RDATE:20251102T020000
END:STANDARD
BEGIN:DAYLIGHT
TZNAME:EDT
DTSTART:20240310T020000
TZOFFSETFROM:-0500
TZOFFSETTO:-0400
RDATE:20250309T020000
RDATE:20260308T020000
END:DAYLIGHT
END:VTIMEZONE
BEGIN:VEVENT
UID:1cb70341-3f96-4a1d-96a9-d770015fa4e8
DTSTAMP:20260421T204239Z
DESCRIPTION:
DTSTART;TZID=America/New_York:20241022T190000
DTEND;TZID=America/New_York:20241022T203000
LOCATION:https://us02web.zoom.us/meeting/register/tZUud-ygrjkoHd2dNwUmaI1wa
 kYHZjSHmxm7
SUMMARY:HopeWorx Family Group
END:VEVENT
END:VCALENDAR
