BEGIN:VCALENDAR
VERSION:2.0
PRODID:-//www.hopeworxinc.org//NONSGML kigkonsult.se iCalcreator 2.30.10//
CALSCALE:GREGORIAN
METHOD:PUBLISH
UID:ff26b873-1c2d-4113-be8c-7d66a0a2af41
X-WR-CALDESC:
X-WR-RELCALID:731c46dab9c68a6b1b585c1be85c1fd2
X-WR-TIMEZONE:America/New_York
BEGIN:VTIMEZONE
TZID:America/New_York
BEGIN:STANDARD
TZNAME:EST
DTSTART:20231105T020000
TZOFFSETFROM:-0400
TZOFFSETTO:-0500
RDATE:20241103T020000
RDATE:20251102T020000
END:STANDARD
BEGIN:DAYLIGHT
TZNAME:EDT
DTSTART:20240310T020000
TZOFFSETFROM:-0500
TZOFFSETTO:-0400
RDATE:20250309T020000
RDATE:20260308T020000
END:DAYLIGHT
END:VTIMEZONE
BEGIN:VEVENT
UID:0ad5b70c-5efc-4e96-8f51-789cc834b4f7
DTSTAMP:20260421T190808Z
DESCRIPTION:
DTSTART;TZID=America/New_York:20241104T140000
DTEND;TZID=America/New_York:20241104T160000
LOCATION:
SUMMARY:SE Regional CSP Committee Meeting
END:VEVENT
END:VCALENDAR
