BEGIN:VCALENDAR
VERSION:2.0
PRODID:-//www.hopeworxinc.org//NONSGML kigkonsult.se iCalcreator 2.30.10//
CALSCALE:GREGORIAN
METHOD:PUBLISH
UID:3aedd616-1145-4075-8003-92e1defc1b04
X-WR-CALDESC:Come join us May 6th\, 2025 to Advocate for Mental Health Righ
 ts at the state capital.  This is a time to have your voice heard and rais
 ed up alongside others in a powerful way!  Now more than ever\, we need to
  be heard.  The barriers we face need to be addressed.  So\, we invite you
  to attend this public event\, starting at 10:00 am.  \nEvent Details:\n•	N
 etworking & Resource Sharing\, Legislative Visits\, and Lunch (on your own
 ): 10:00 AM – 1:00 PM\n•	Press Conference: 1:00 PM – 2:00 PM\nFree Transpor
 tation will be provided with limited seating while tickets are still avail
 able.  Click the 'Register Now' button to reserve a spot at the event.  If
  you have any questions\, please contact me at jwhitmore@hopeworxinc.org.
 \n
X-WR-RELCALID:1e3d265a4e7cf04d57167db4e8416389
X-WR-TIMEZONE:America/New_York
BEGIN:VTIMEZONE
TZID:America/New_York
BEGIN:STANDARD
TZNAME:EST
DTSTART:20241103T020000
TZOFFSETFROM:-0400
TZOFFSETTO:-0500
RDATE:20251102T020000
RDATE:20261101T020000
END:STANDARD
BEGIN:DAYLIGHT
TZNAME:EDT
DTSTART:20250309T020000
TZOFFSETFROM:-0500
TZOFFSETTO:-0400
RDATE:20260308T020000
END:DAYLIGHT
END:VTIMEZONE
BEGIN:VEVENT
UID:76016b28-37e4-4afa-970d-f2e774105860
DTSTAMP:20260421T093733Z
DESCRIPTION:Come join us May 6th\, 2025 to Advocate for Mental Health Right
 s at the state capital.  This is a time to have your voice heard and raise
 d up alongside others in a powerful way!  Now more than ever\, we need to 
 be heard.  The barriers we face need to be addressed.  So\, we invite you 
 to attend this public event\, starting at 10:00 am.  \nEvent Details:\n•	Ne
 tworking & Resource Sharing\, Legislative Visits\, and Lunch (on your own)
 : 10:00 AM – 1:00 PM\n•	Press Conference: 1:00 PM – 2:00 PM\nFree Transport
 ation will be provided with limited seating while tickets are still availa
 ble.  Click the 'Register Now' button to reserve a spot at the event.  If 
 you have any questions\, please contact me at jwhitmore@hopeworxinc.org.\n
DTSTART;TZID=America/New_York:20250506T100000
DTEND;TZID=America/New_York:20250506T150000
LOCATION:501 North 3rd street\, Harrisburg\, PA 17120 US
SUMMARY:Mental Health Advocacy Day
END:VEVENT
END:VCALENDAR
